BEGIN:VCALENDAR
VERSION:2.0
PRODID:-//LILA YOGA® - ECPv6.15.20//NONSGML v1.0//EN
CALSCALE:GREGORIAN
METHOD:PUBLISH
X-WR-CALNAME:LILA YOGA®
X-ORIGINAL-URL:https://lilayoga.com
X-WR-CALDESC:Events for LILA YOGA®
REFRESH-INTERVAL;VALUE=DURATION:PT1H
X-Robots-Tag:noindex
X-PUBLISHED-TTL:PT1H
BEGIN:VTIMEZONE
TZID:America/New_York
BEGIN:DAYLIGHT
TZOFFSETFROM:-0500
TZOFFSETTO:-0400
TZNAME:EDT
DTSTART:20210314T070000
END:DAYLIGHT
BEGIN:STANDARD
TZOFFSETFROM:-0400
TZOFFSETTO:-0500
TZNAME:EST
DTSTART:20211107T060000
END:STANDARD
BEGIN:DAYLIGHT
TZOFFSETFROM:-0500
TZOFFSETTO:-0400
TZNAME:EDT
DTSTART:20220313T070000
END:DAYLIGHT
BEGIN:STANDARD
TZOFFSETFROM:-0400
TZOFFSETTO:-0500
TZNAME:EST
DTSTART:20221106T060000
END:STANDARD
BEGIN:DAYLIGHT
TZOFFSETFROM:-0500
TZOFFSETTO:-0400
TZNAME:EDT
DTSTART:20230312T070000
END:DAYLIGHT
BEGIN:STANDARD
TZOFFSETFROM:-0400
TZOFFSETTO:-0500
TZNAME:EST
DTSTART:20231105T060000
END:STANDARD
END:VTIMEZONE
BEGIN:VEVENT
DTSTART;TZID=America/New_York:20220209T173000
DTEND;TZID=America/New_York:20220209T181500
DTSTAMP:20260419T081526
CREATED:20220210T044349Z
LAST-MODIFIED:20220406T144537Z
UID:10000100-1644427800-1644430500@lilayoga.com
SUMMARY:Free Yoga Classes for Penn State Students\, Faculty & Staff
DESCRIPTION:[vc_row full_width=”stretch_row_content_no_spaces” padding_top=”0″ padding_bottom=”0″][vc_column css_animation=”fadeIn”][vc_row_inner][vc_column_inner][vc_column_text class=”event1desc”]This is an inclusive yoga class in collaboration with Penn State Health & Human Development. All levels of experience are welcome*—faculty\, staff\, and students together! Modifications will be given. The course is free of charge for all. \nThe ‘Enhancing Wellbeing with Lila Yoga’ class integrates physical practices (yoga postures) with yoga philosophy\, the elements of nature\, breathing techniques (pranayama)\, and meditation. Because building community is part of this offering\, we will make space for your questions\, proposed topics\, and needs during all sessions. \nIf you are PSU faculty\, staff\, or student\, please join us at:\nhttps://www.prevention.psu.edu/peace/outreach/yoga[/vc_column_text][vc_single_image image=”37049″ img_size=”medium” onclick=”custom_link” img_link_target=”_blank” link=”https://lilayoga.com/wp-content/uploads/2022/02/Lila-Yoga-PRC.pdf”][/vc_column_inner][/vc_row_inner][/vc_column][/vc_row]
URL:https://lilayoga.com/event/free-yoga-classes-for-penn-state-students-faculty-staff/2022-02-09/
LOCATION:Online
CATEGORIES:Yoga Event
ATTACH;FMTTYPE=image/jpeg:https://lilayoga.com/wp-content/uploads/2022/02/Erica-Kaufman-and-Chris-Mahlobo-Web.jpeg
ORGANIZER;CN="Erica Kaufman":MAILTO:erica@lilayoga.com
END:VEVENT
END:VCALENDAR