BEGIN:VCALENDAR
VERSION:2.0
PRODID:-//LILA YOGA® - ECPv6.15.20//NONSGML v1.0//EN
CALSCALE:GREGORIAN
METHOD:PUBLISH
X-WR-CALNAME:LILA YOGA®
X-ORIGINAL-URL:https://lilayoga.com
X-WR-CALDESC:Events for LILA YOGA®
REFRESH-INTERVAL;VALUE=DURATION:PT1H
X-Robots-Tag:noindex
X-PUBLISHED-TTL:PT1H
BEGIN:VTIMEZONE
TZID:America/New_York
BEGIN:DAYLIGHT
TZOFFSETFROM:-0500
TZOFFSETTO:-0400
TZNAME:EDT
DTSTART:20200308T070000
END:DAYLIGHT
BEGIN:STANDARD
TZOFFSETFROM:-0400
TZOFFSETTO:-0500
TZNAME:EST
DTSTART:20201101T060000
END:STANDARD
BEGIN:DAYLIGHT
TZOFFSETFROM:-0500
TZOFFSETTO:-0400
TZNAME:EDT
DTSTART:20210314T070000
END:DAYLIGHT
BEGIN:STANDARD
TZOFFSETFROM:-0400
TZOFFSETTO:-0500
TZNAME:EST
DTSTART:20211107T060000
END:STANDARD
BEGIN:DAYLIGHT
TZOFFSETFROM:-0500
TZOFFSETTO:-0400
TZNAME:EDT
DTSTART:20220313T070000
END:DAYLIGHT
BEGIN:STANDARD
TZOFFSETFROM:-0400
TZOFFSETTO:-0500
TZNAME:EST
DTSTART:20221106T060000
END:STANDARD
END:VTIMEZONE
BEGIN:VEVENT
DTSTART;VALUE=DATE:20211222
DTEND;VALUE=DATE:20211223
DTSTAMP:20260424T021817
CREATED:20220114T175734Z
LAST-MODIFIED:20220118T210132Z
UID:10000099-1640131200-1640217599@lilayoga.com
SUMMARY:Online Lila Yoga Teacher Training 2021
DESCRIPTION:[vc_row full_width=”stretch_row_content_no_spaces” padding_top=”0″ padding_bottom=”0″][vc_column css_animation=”fadeIn”][vc_row_inner padding_top=”0″][vc_column_inner][vc_column_text]Erica Kaufman graduated the most recent class from the 200 hour O-LYTT in December 2021. Graduates live in Bangalore India\, Vancouver Canada\, and Pennsylvania USA. \n“We had a fabulous training together and I look forward to introducing these beautiful teachers to the world wide Lila Yoga community.” ~Erica[/vc_column_text][/vc_column_inner][/vc_row_inner][/vc_column][/vc_row]
URL:https://lilayoga.com/event/online-lila-yoga-teacher-training-2021/
LOCATION:Online
CATEGORIES:Teacher Training
ATTACH;FMTTYPE=image/jpeg:https://lilayoga.com/wp-content/uploads/2022/01/O-LYTT-2021.jpg
ORGANIZER;CN="Erica Kaufman":MAILTO:erica@lilayoga.com
END:VEVENT
BEGIN:VEVENT
DTSTART;TZID=America/New_York:20211225T083000
DTEND;TZID=America/New_York:20211225T091500
DTSTAMP:20260424T021817
CREATED:20220112T231134Z
LAST-MODIFIED:20220112T231212Z
UID:10000097-1640421000-1640423700@lilayoga.com
SUMMARY:6th Yoga World Festival
DESCRIPTION:[vc_row full_width=”stretch_row_content_no_spaces” padding_top=”0″ padding_bottom=”0″][vc_column css_animation=”fadeIn”][vc_row_inner padding_top=”0″][vc_column_inner][vc_column_text class=”event1″]Registration Form\nhttps://forms.gle/NVBAkGZEQwqkadj59 \nTo join the video meeting\nhttps://meet.google.com/yfa-jubz-nja \n www.yogaworldfestival.com[/vc_column_text][vc_column_text class=”event1desc”]Yoga World Festival is a FREE ONLINE event. \n“it’s a great honor to join this panel of distinguished yogis for this beautiful occasion.” -Erica Kaufman \nThe Program\n6:15 am – 7:00 am / Dr. T.A Krishnan & Dr. Yuva Dayalan\, Hong Kong\n7:00 am – 7:45 am Dr. Thanga mani\, India\n8:30 am – 9:15 am / Erica Kaufman\n8:30 am – 9:15 am Dr. Kumaran\, Hong Kong\n9:15 am – 10:00 am Dr. Elangovan\, India[/vc_column_text][vc_media_grid element_width=”3″ grid_id=”vc_gid:1642028707964-c09cec9d-492f-0″ include=”36511\,36512\,36513\,36515\,36516\,36517\,36519\,36518″][/vc_column_inner][/vc_row_inner][/vc_column][/vc_row]
URL:https://lilayoga.com/event/6th-yoga-world-festival/
LOCATION:Online
CATEGORIES:Yoga Event
ATTACH;FMTTYPE=image/jpeg:https://lilayoga.com/wp-content/uploads/2021/12/6thYogaWorldFestival4.jpeg
ORGANIZER;CN="Erica Kaufman":MAILTO:erica@lilayoga.com
END:VEVENT
END:VCALENDAR