BEGIN:VCALENDAR
VERSION:2.0
PRODID:-//LILA YOGA® - ECPv6.15.20//NONSGML v1.0//EN
CALSCALE:GREGORIAN
METHOD:PUBLISH
X-WR-CALNAME:LILA YOGA®
X-ORIGINAL-URL:https://lilayoga.com
X-WR-CALDESC:Events for LILA YOGA®
REFRESH-INTERVAL;VALUE=DURATION:PT1H
X-Robots-Tag:noindex
X-PUBLISHED-TTL:PT1H
BEGIN:VTIMEZONE
TZID:America/New_York
BEGIN:DAYLIGHT
TZOFFSETFROM:-0500
TZOFFSETTO:-0400
TZNAME:EDT
DTSTART:20240310T070000
END:DAYLIGHT
BEGIN:STANDARD
TZOFFSETFROM:-0400
TZOFFSETTO:-0500
TZNAME:EST
DTSTART:20241103T060000
END:STANDARD
BEGIN:DAYLIGHT
TZOFFSETFROM:-0500
TZOFFSETTO:-0400
TZNAME:EDT
DTSTART:20250309T070000
END:DAYLIGHT
BEGIN:STANDARD
TZOFFSETFROM:-0400
TZOFFSETTO:-0500
TZNAME:EST
DTSTART:20251102T060000
END:STANDARD
BEGIN:DAYLIGHT
TZOFFSETFROM:-0500
TZOFFSETTO:-0400
TZNAME:EDT
DTSTART:20260308T070000
END:DAYLIGHT
BEGIN:STANDARD
TZOFFSETFROM:-0400
TZOFFSETTO:-0500
TZNAME:EST
DTSTART:20261101T060000
END:STANDARD
BEGIN:DAYLIGHT
TZOFFSETFROM:-0500
TZOFFSETTO:-0400
TZNAME:EDT
DTSTART:20270314T070000
END:DAYLIGHT
BEGIN:STANDARD
TZOFFSETFROM:-0400
TZOFFSETTO:-0500
TZNAME:EST
DTSTART:20271107T060000
END:STANDARD
END:VTIMEZONE
BEGIN:VEVENT
DTSTART;VALUE=DATE:20250306
DTEND;VALUE=DATE:20250309
DTSTAMP:20260421T184138
CREATED:20241103T140721Z
LAST-MODIFIED:20250110T141336Z
UID:10000152-1741219200-1741478399@lilayoga.com
SUMMARY:Unlock Your Vital Energy: Join the Mini Lila Prana Retreat in preparation for full participation in IYF2025
DESCRIPTION:[vc_row full_width=”stretch_row_content_no_spaces” class=”home”][vc_column css_animation=”fadeIn”][vc_row_inner padding_top=”0″][vc_column_inner][vc_single_image image=”37941″ img_size=”full” css=””][vc_column_text class=”event1″] \nUnlock Vital Energy! Lila Yoga: Prana in Daily Living.\nJoin the Mini Lila Prana Retreat in Rishikesh India (March 6-8) in preparation for full participation in International Yoga Festival 2025 (March 9-15)!\n[/vc_column_text][vc_column_text class=”fest1desc”]Firmly establish yourself in your center with this beautiful Mini Retreat scheduled just before IYF starts. Cultivate inner balance and focus with Yogini Erica’s expert guidance as you settle from jet lag\, connect with others\, stabilize focused energy. \nErica’s daily Prana Sessions unlock powerful and magnificent energies deep within you. Each Session combines pranayama (yogic breathing) and targeted gentle asanas to stimulate vital energy flow\, nurture your body and elevate profound well-being. \nWhat: Mini Lila Prana Retreat in Rishikesh India (March 6-8)\nWith: Erica Rachel Kaufman\, founder of Lila Yoga\nWhen: March 6- 8\, 2025\nCost: IYF Tuition (sliding scale) + $297 (Prana retreat)\n= IYF Tuition + $297\nWhere: Rishikesh India\nWho: All Levels\nHow: Registration upon payment.\nPlease use our PayPal link below to make payment.[/vc_column_text][vc_column_text class=”fest1desc”]Day of Yoga Immersion Includes: \n\n3 nights accommodations\n2 nourishing meals a day\nDaily Prana Sessions with Yogini Erica\nFull IYF2025 participation!\nPlus\, receive expert support from Siddharth in arranging flights and navigating visa requirements\nCOST: IYF Tuition + $297\n\nFor more information contact: erica@lilayoga.com[/vc_column_text][vc_masonry_media_grid css=”” grid_id=”vc_gid:1736517717576-26b56ece-7f83-10″ include=”37937\,37938\,37939″][vc_btn title=”REGISTER HERE for IYF (use discount code ERICA2025 for 10% off)” color=”orange” size=”lg” align=”center” css_animation=”fadeIn” css=”” button_block=”true” link=”url:https%3A%2F%2Finternationalyogafestival.org%2Fregister%2F|title:IYF%202025%20Registration%20(use%20discount%20code%20ERICA2025%20for%2010%25%20off)|target:_blank|rel:nofollow”][vc_raw_js]JTNDc2NyaXB0JTIwdHlwZSUzRCUyMnRleHQlMkZqYXZhc2NyaXB0JTIyJTNFJTBBJTA5JTA5alF1ZXJ5JTI4ZG9jdW1lbnQlMjkucmVhZHklMjhmdW5jdGlvbiUyOCUyNCUyOSUyMCU3QiUwQSUyMCUyMCUyMCUyMCUyMCUyMCUyMCUyMCUwOSUyNCUyOCUyNyUyM3RyaWJlLXRpY2tldHNfX3RpY2tldHMtZm9ybSUyMCUzRSUyMGgyJTI3JTI5LnRleHQlMjglMjdSRUdJU1RFUiUyMEhFUkUlMjBmb3IlMjBMaWxhJTIwUHJhbmElMjBSZXRyZWF0JTI3JTI5JTNCJTBBJTdEJTI5JTNCJTBBJTIwJTIwJTIwJTIwJTNDJTJGc2NyaXB0JTNF[/vc_raw_js][vc_raw_js]JTNDc2NyaXB0JTIwdHlwZSUzRCUyMnRleHQlMkZqYXZhc2NyaXB0JTIyJTNFJTBBJTA5JTA5alF1ZXJ5JTI4ZG9jdW1lbnQlMjkucmVhZHklMjhmdW5jdGlvbiUyOCUyNCUyOSUyMCU3QiUwQSUyMCUyMCUyMCUyMCUyMCUyMCUyMCUyMCUwOSUyNCUyOCUyNyUyM3RyaWJlLXRpY2tldHNfX3RpY2tldHMtc3VibWl0JTI3JTI5LnRleHQlMjglMjdSRUdJU1RFUiUyNyUyOSUzQiUwQSU3RCUyOSUzQiUwQSUyMCUyMCUyMCUyMCUzQyUyRnNjcmlwdCUzRQ==[/vc_raw_js][/vc_column_inner][/vc_row_inner][/vc_column][/vc_row]
URL:https://lilayoga.com/event/unlock-your-vital-energy-iyf2025/
LOCATION:Rishikesh India\, India
CATEGORIES:Retreat,Yoga Event,Yoga Festival,Yoga Workshop
ATTACH;FMTTYPE=image/jpeg:https://lilayoga.com/wp-content/uploads/2024/11/cover-.jpg
ORGANIZER;CN="Erica Kaufman":MAILTO:erica@lilayoga.com
END:VEVENT
BEGIN:VEVENT
DTSTART;TZID=America/New_York:20250503T090000
DTEND;TZID=America/New_York:20250505T150000
DTSTAMP:20260421T184138
CREATED:20250502T164430Z
LAST-MODIFIED:20250502T164615Z
UID:10000156-1746262800-1746457200@lilayoga.com
SUMMARY:Immerse Yourself in a Day of Yoga with Yogacharya\, Erica Rachel Kaufman\, in the beauty of Julian Woods at the O-An Zendo
DESCRIPTION:[vc_row full_width=”stretch_row_content_no_spaces” class=”home”][vc_column css_animation=”fadeIn”][vc_row_inner padding_top=”0″][vc_column_inner][vc_single_image image=”38035″ img_size=”full” css=””][vc_column_text class=”event1″] \nImmerse Yourself in a Day of Yoga\nImmerse Yourself in a Day of Yoga with Yogacharya\, Erica Rachel Kaufman\, in the beauty of Julian Woods at the O-An Zendo\n[/vc_column_text][vc_single_image image=”38037″ img_size=”full” css=””][vc_column_text class=”fest1desc”]Day of Yoga Immersion Includes: \n\nDharma Talk\, Guided Meditation\nWholesome Vegetarian/Vegan Lunch\, Tea and Sweets\nQuieting & Calming Pranayama (yogic breathing)\nAsana (yoga postures—adjustable for all levels)\nIntentional Silent Walks in Nature (weather permitting)\n\nWhat: Day of Yoga Immersion\nWith: Erica Rachel Kaufman\, founder of Lila Yoga\nWhen: May 3rd\, from 9 am – 3 pm\nCost: $180-255 /participant (sliding scale)\nEnrollment limited to 12 participants\nWhere: O-An Zendo\, Julian Woods\, Pa.\nWho: All Levels\nHow: Registration upon payment.\nPlease use our PayPal link below. \nFor more information contact:\nerica@lilayoga.com[/vc_column_text][vc_btn title=”Join Lila Yoga at O-An Zendo” color=”orange” size=”lg” align=”center” css_animation=”fadeIn” css=”” button_block=”true” link=”url:https%3A%2F%2Fwww.paypal.com%2Fdonate%2F%3Fcmd%3D_s-xclick%26hosted_button_id%3DC6M7HNR3M2RTN%26source%3Durl|title:Join%20Lila%20Yoga%20at%20O-An%20Zendo|target:_blank|rel:nofollow”][/vc_column_inner][/vc_row_inner][/vc_column][/vc_row]
URL:https://lilayoga.com/event/immerse-yourself-in-a-day-of-yoga/
LOCATION:O-An Zendo\, Julian Woods\, Pa.\, 1 Endless Cir\, Julian\, PA\, 16844\, United States
CATEGORIES:Retreat,Yoga Event,Yoga Workshop
ATTACH;FMTTYPE=image/jpeg:https://lilayoga.com/wp-content/uploads/2025/05/lila_04.jpg
ORGANIZER;CN="Erica Kaufman":MAILTO:erica@lilayoga.com
END:VEVENT
BEGIN:VEVENT
DTSTART;TZID=America/New_York:20250831T090000
DTEND;TZID=America/New_York:20250831T103000
DTSTAMP:20260421T184138
CREATED:20250820T100440Z
LAST-MODIFIED:20250820T100440Z
UID:10000157-1756630800-1756636200@lilayoga.com
SUMMARY:Join Erica Kaufman at Floyd Yoga Jam
DESCRIPTION:[vc_row full_width=”stretch_row_content_no_spaces” class=”home”][vc_column css_animation=”fadeIn”][vc_row_inner padding_top=”0″][vc_column_inner][vc_single_image image=”38058″ img_size=”full” css=””][vc_column_text class=”event1″] \nJoin Erica Kaufman at Floyd Yoga Jam!!!\nDiscover your transformative potential with Lila Yoga\, a holistic practice that unlocks clarity\, inner peace\, and radiant well-being. By integrating Prana within asana\, pranayama within vinyasa\, and intentions into conciseness\, Lila Yoga sparks a profound and lasting empowerment of calm clarity.\n[/vc_column_text][vc_single_image image=”38037″ img_size=”full” css=””][vc_column_text class=”fest1desc”]Day of Yoga Immersion Includes\nWhat: Lila Yoga Vinyasa: Empowering Peace & Clarity\nWith: Erica Rachel Kaufman\, founder of Lila Yoga\nWhen: Aug 31\, from 9:00 – 10:30 pam\nWhere: Floyd Yoga Jam\, 5430 Indian Valley Rd NW\, Willis\, VA\, 24380\nWho: All Levels\nHow: Registration: www.floydyogajam.com \nFor more information contact:\nerica@lilayoga.com[/vc_column_text][vc_btn title=”Join Erica Kaufman at Floyd Yoga Jam” color=”orange” size=”lg” align=”center” css_animation=”fadeIn” css=”” button_block=”true” link=”url:https%3A%2F%2Fwww.floydyogajam.com%2F|title:Join%20Erica%20Kaufman%20at%20Floyd%20Yoga%20Jam|target:_blank|rel:nofollow”][/vc_column_inner][/vc_row_inner][/vc_column][/vc_row]
URL:https://lilayoga.com/event/join-erica-kaufman-at-floyd-yoga-jam/
LOCATION:Willis\, VA\, Burnette Farm 5430 Indian Valley Rd NW\, Willis\, VA\, 24380\, United States
CATEGORIES:Retreat,Yoga Event,Yoga Workshop
ATTACH;FMTTYPE=image/png:https://lilayoga.com/wp-content/uploads/2025/08/2025-08-25-Floyd-Yoga-Jam-Flyer-1.png
ORGANIZER;CN="Erica Kaufman":MAILTO:erica@lilayoga.com
END:VEVENT
BEGIN:VEVENT
DTSTART;TZID=America/New_York:20260107T173000
DTEND;TZID=America/New_York:20260107T190000
DTSTAMP:20260421T184138
CREATED:20251223T161350Z
LAST-MODIFIED:20251223T162653Z
UID:10000158-1767807000-1767812400@lilayoga.com
SUMMARY:Rekindling the Light: 5 Week Series with Erica Kaufman | Boalsburg Yoga & Wellness Studio
DESCRIPTION:[vc_row full_width=”stretch_row_content_no_spaces” class=”home”][vc_column css_animation=”fadeIn”][vc_row_inner padding_top=”0″][vc_column_inner][vc_single_image image=”38148″ img_size=”full” css=””][vc_column_text class=”event1″] \nRekindling the Light: 5 Week Series with Erica Kaufman\nJoin us for a rich and inspiring community yoga practice combining vinyasa\, asana\, pranayama and meditation. Lila Yoga merges yoga philosophy with the physical practices. Special emphasis is on the movement of prana (cosmic energy) within holistic alignment of physicality\, intentionality\, and spirituality. This series is perfect for all levels\, options always offered to adapt your practice as needed.\nLooking to deepen\, begin or get back into your yoga practice? Let’s do it! \n[/vc_column_text][vc_single_image image=”38145″ img_size=”full” css=””][vc_column_text class=”fest1desc”]Rekindling the Light: 5 Week Series with Erica Kaufman\nWith: Erica Rachel Kaufman\, founder of Lila Yoga\nWhen: Jan 07\, 2026\, 5:30 PM – Feb 04\, 2026\, 7:00 PM\nWhere: Boalsburg Yoga & Wellness Studio\, 106 N Church St 2nd floor\, Boalsburg\, PA 16827\, USA\nWho: All Levels\nHow: Registration: www.boalsburgyogastudio.com \nFor more information contact:\nerica@lilayoga.com\n[/vc_column_text][vc_btn title=”Rekindling the Light: 5 Week Series with Erica Kaufman” color=”orange” size=”lg” align=”center” css_animation=”fadeIn” css=”” button_block=”true” link=”url:https%3A%2F%2Fwww.boalsburgyogastudio.com%2Fevent-details-registration%2Frekindling-the-light-5-week-series-with-erica-kaufman|title:Rekindling%20the%20Light%3A%205%20Week%20Series%20with%20Erica%20Kaufman|target:_blank|rel:nofollow”][/vc_column_inner][/vc_row_inner][/vc_column][/vc_row]
URL:https://lilayoga.com/event/rekindling-the-light-5-week-series-with-erica-kaufman-boalsburg-yoga-wellness-studio/2026-01-07/
LOCATION:Boalsburg Yoga & Wellness Studio\, 106 N Church St 2nd floor\, Boalsburg\, PA\, 16827\, United States
CATEGORIES:Yoga Event,Yoga Workshop
ATTACH;FMTTYPE=image/jpeg:https://lilayoga.com/wp-content/uploads/2025/12/Rekindling-the-Light2.jpg
ORGANIZER;CN="Erica Kaufman":MAILTO:erica@lilayoga.com
END:VEVENT
BEGIN:VEVENT
DTSTART;TZID=America/New_York:20260114T173000
DTEND;TZID=America/New_York:20260114T190000
DTSTAMP:20260421T184138
CREATED:20251223T161350Z
LAST-MODIFIED:20251223T162653Z
UID:10000159-1768411800-1768417200@lilayoga.com
SUMMARY:Rekindling the Light: 5 Week Series with Erica Kaufman | Boalsburg Yoga & Wellness Studio
DESCRIPTION:[vc_row full_width=”stretch_row_content_no_spaces” class=”home”][vc_column css_animation=”fadeIn”][vc_row_inner padding_top=”0″][vc_column_inner][vc_single_image image=”38148″ img_size=”full” css=””][vc_column_text class=”event1″] \nRekindling the Light: 5 Week Series with Erica Kaufman\nJoin us for a rich and inspiring community yoga practice combining vinyasa\, asana\, pranayama and meditation. Lila Yoga merges yoga philosophy with the physical practices. Special emphasis is on the movement of prana (cosmic energy) within holistic alignment of physicality\, intentionality\, and spirituality. This series is perfect for all levels\, options always offered to adapt your practice as needed.\nLooking to deepen\, begin or get back into your yoga practice? Let’s do it! \n[/vc_column_text][vc_single_image image=”38145″ img_size=”full” css=””][vc_column_text class=”fest1desc”]Rekindling the Light: 5 Week Series with Erica Kaufman\nWith: Erica Rachel Kaufman\, founder of Lila Yoga\nWhen: Jan 07\, 2026\, 5:30 PM – Feb 04\, 2026\, 7:00 PM\nWhere: Boalsburg Yoga & Wellness Studio\, 106 N Church St 2nd floor\, Boalsburg\, PA 16827\, USA\nWho: All Levels\nHow: Registration: www.boalsburgyogastudio.com \nFor more information contact:\nerica@lilayoga.com\n[/vc_column_text][vc_btn title=”Rekindling the Light: 5 Week Series with Erica Kaufman” color=”orange” size=”lg” align=”center” css_animation=”fadeIn” css=”” button_block=”true” link=”url:https%3A%2F%2Fwww.boalsburgyogastudio.com%2Fevent-details-registration%2Frekindling-the-light-5-week-series-with-erica-kaufman|title:Rekindling%20the%20Light%3A%205%20Week%20Series%20with%20Erica%20Kaufman|target:_blank|rel:nofollow”][/vc_column_inner][/vc_row_inner][/vc_column][/vc_row]
URL:https://lilayoga.com/event/rekindling-the-light-5-week-series-with-erica-kaufman-boalsburg-yoga-wellness-studio/2026-01-14/
LOCATION:Boalsburg Yoga & Wellness Studio\, 106 N Church St 2nd floor\, Boalsburg\, PA\, 16827\, United States
CATEGORIES:Yoga Event,Yoga Workshop
ATTACH;FMTTYPE=image/jpeg:https://lilayoga.com/wp-content/uploads/2025/12/Rekindling-the-Light2.jpg
ORGANIZER;CN="Erica Kaufman":MAILTO:erica@lilayoga.com
END:VEVENT
BEGIN:VEVENT
DTSTART;TZID=America/New_York:20260121T173000
DTEND;TZID=America/New_York:20260121T190000
DTSTAMP:20260421T184138
CREATED:20251223T161350Z
LAST-MODIFIED:20251223T162653Z
UID:10000160-1769016600-1769022000@lilayoga.com
SUMMARY:Rekindling the Light: 5 Week Series with Erica Kaufman | Boalsburg Yoga & Wellness Studio
DESCRIPTION:[vc_row full_width=”stretch_row_content_no_spaces” class=”home”][vc_column css_animation=”fadeIn”][vc_row_inner padding_top=”0″][vc_column_inner][vc_single_image image=”38148″ img_size=”full” css=””][vc_column_text class=”event1″] \nRekindling the Light: 5 Week Series with Erica Kaufman\nJoin us for a rich and inspiring community yoga practice combining vinyasa\, asana\, pranayama and meditation. Lila Yoga merges yoga philosophy with the physical practices. Special emphasis is on the movement of prana (cosmic energy) within holistic alignment of physicality\, intentionality\, and spirituality. This series is perfect for all levels\, options always offered to adapt your practice as needed.\nLooking to deepen\, begin or get back into your yoga practice? Let’s do it! \n[/vc_column_text][vc_single_image image=”38145″ img_size=”full” css=””][vc_column_text class=”fest1desc”]Rekindling the Light: 5 Week Series with Erica Kaufman\nWith: Erica Rachel Kaufman\, founder of Lila Yoga\nWhen: Jan 07\, 2026\, 5:30 PM – Feb 04\, 2026\, 7:00 PM\nWhere: Boalsburg Yoga & Wellness Studio\, 106 N Church St 2nd floor\, Boalsburg\, PA 16827\, USA\nWho: All Levels\nHow: Registration: www.boalsburgyogastudio.com \nFor more information contact:\nerica@lilayoga.com\n[/vc_column_text][vc_btn title=”Rekindling the Light: 5 Week Series with Erica Kaufman” color=”orange” size=”lg” align=”center” css_animation=”fadeIn” css=”” button_block=”true” link=”url:https%3A%2F%2Fwww.boalsburgyogastudio.com%2Fevent-details-registration%2Frekindling-the-light-5-week-series-with-erica-kaufman|title:Rekindling%20the%20Light%3A%205%20Week%20Series%20with%20Erica%20Kaufman|target:_blank|rel:nofollow”][/vc_column_inner][/vc_row_inner][/vc_column][/vc_row]
URL:https://lilayoga.com/event/rekindling-the-light-5-week-series-with-erica-kaufman-boalsburg-yoga-wellness-studio/2026-01-21/
LOCATION:Boalsburg Yoga & Wellness Studio\, 106 N Church St 2nd floor\, Boalsburg\, PA\, 16827\, United States
CATEGORIES:Yoga Event,Yoga Workshop
ATTACH;FMTTYPE=image/jpeg:https://lilayoga.com/wp-content/uploads/2025/12/Rekindling-the-Light2.jpg
ORGANIZER;CN="Erica Kaufman":MAILTO:erica@lilayoga.com
END:VEVENT
BEGIN:VEVENT
DTSTART;TZID=America/New_York:20260128T173000
DTEND;TZID=America/New_York:20260128T190000
DTSTAMP:20260421T184138
CREATED:20251223T161350Z
LAST-MODIFIED:20251223T162653Z
UID:10000161-1769621400-1769626800@lilayoga.com
SUMMARY:Rekindling the Light: 5 Week Series with Erica Kaufman | Boalsburg Yoga & Wellness Studio
DESCRIPTION:[vc_row full_width=”stretch_row_content_no_spaces” class=”home”][vc_column css_animation=”fadeIn”][vc_row_inner padding_top=”0″][vc_column_inner][vc_single_image image=”38148″ img_size=”full” css=””][vc_column_text class=”event1″] \nRekindling the Light: 5 Week Series with Erica Kaufman\nJoin us for a rich and inspiring community yoga practice combining vinyasa\, asana\, pranayama and meditation. Lila Yoga merges yoga philosophy with the physical practices. Special emphasis is on the movement of prana (cosmic energy) within holistic alignment of physicality\, intentionality\, and spirituality. This series is perfect for all levels\, options always offered to adapt your practice as needed.\nLooking to deepen\, begin or get back into your yoga practice? Let’s do it! \n[/vc_column_text][vc_single_image image=”38145″ img_size=”full” css=””][vc_column_text class=”fest1desc”]Rekindling the Light: 5 Week Series with Erica Kaufman\nWith: Erica Rachel Kaufman\, founder of Lila Yoga\nWhen: Jan 07\, 2026\, 5:30 PM – Feb 04\, 2026\, 7:00 PM\nWhere: Boalsburg Yoga & Wellness Studio\, 106 N Church St 2nd floor\, Boalsburg\, PA 16827\, USA\nWho: All Levels\nHow: Registration: www.boalsburgyogastudio.com \nFor more information contact:\nerica@lilayoga.com\n[/vc_column_text][vc_btn title=”Rekindling the Light: 5 Week Series with Erica Kaufman” color=”orange” size=”lg” align=”center” css_animation=”fadeIn” css=”” button_block=”true” link=”url:https%3A%2F%2Fwww.boalsburgyogastudio.com%2Fevent-details-registration%2Frekindling-the-light-5-week-series-with-erica-kaufman|title:Rekindling%20the%20Light%3A%205%20Week%20Series%20with%20Erica%20Kaufman|target:_blank|rel:nofollow”][/vc_column_inner][/vc_row_inner][/vc_column][/vc_row]
URL:https://lilayoga.com/event/rekindling-the-light-5-week-series-with-erica-kaufman-boalsburg-yoga-wellness-studio/2026-01-28/
LOCATION:Boalsburg Yoga & Wellness Studio\, 106 N Church St 2nd floor\, Boalsburg\, PA\, 16827\, United States
CATEGORIES:Yoga Event,Yoga Workshop
ATTACH;FMTTYPE=image/jpeg:https://lilayoga.com/wp-content/uploads/2025/12/Rekindling-the-Light2.jpg
ORGANIZER;CN="Erica Kaufman":MAILTO:erica@lilayoga.com
END:VEVENT
BEGIN:VEVENT
DTSTART;TZID=America/New_York:20260204T173000
DTEND;TZID=America/New_York:20260204T190000
DTSTAMP:20260421T184138
CREATED:20251223T161350Z
LAST-MODIFIED:20251223T162653Z
UID:10000162-1770226200-1770231600@lilayoga.com
SUMMARY:Rekindling the Light: 5 Week Series with Erica Kaufman | Boalsburg Yoga & Wellness Studio
DESCRIPTION:[vc_row full_width=”stretch_row_content_no_spaces” class=”home”][vc_column css_animation=”fadeIn”][vc_row_inner padding_top=”0″][vc_column_inner][vc_single_image image=”38148″ img_size=”full” css=””][vc_column_text class=”event1″] \nRekindling the Light: 5 Week Series with Erica Kaufman\nJoin us for a rich and inspiring community yoga practice combining vinyasa\, asana\, pranayama and meditation. Lila Yoga merges yoga philosophy with the physical practices. Special emphasis is on the movement of prana (cosmic energy) within holistic alignment of physicality\, intentionality\, and spirituality. This series is perfect for all levels\, options always offered to adapt your practice as needed.\nLooking to deepen\, begin or get back into your yoga practice? Let’s do it! \n[/vc_column_text][vc_single_image image=”38145″ img_size=”full” css=””][vc_column_text class=”fest1desc”]Rekindling the Light: 5 Week Series with Erica Kaufman\nWith: Erica Rachel Kaufman\, founder of Lila Yoga\nWhen: Jan 07\, 2026\, 5:30 PM – Feb 04\, 2026\, 7:00 PM\nWhere: Boalsburg Yoga & Wellness Studio\, 106 N Church St 2nd floor\, Boalsburg\, PA 16827\, USA\nWho: All Levels\nHow: Registration: www.boalsburgyogastudio.com \nFor more information contact:\nerica@lilayoga.com\n[/vc_column_text][vc_btn title=”Rekindling the Light: 5 Week Series with Erica Kaufman” color=”orange” size=”lg” align=”center” css_animation=”fadeIn” css=”” button_block=”true” link=”url:https%3A%2F%2Fwww.boalsburgyogastudio.com%2Fevent-details-registration%2Frekindling-the-light-5-week-series-with-erica-kaufman|title:Rekindling%20the%20Light%3A%205%20Week%20Series%20with%20Erica%20Kaufman|target:_blank|rel:nofollow”][/vc_column_inner][/vc_row_inner][/vc_column][/vc_row]
URL:https://lilayoga.com/event/rekindling-the-light-5-week-series-with-erica-kaufman-boalsburg-yoga-wellness-studio/2026-02-04/
LOCATION:Boalsburg Yoga & Wellness Studio\, 106 N Church St 2nd floor\, Boalsburg\, PA\, 16827\, United States
CATEGORIES:Yoga Event,Yoga Workshop
ATTACH;FMTTYPE=image/jpeg:https://lilayoga.com/wp-content/uploads/2025/12/Rekindling-the-Light2.jpg
ORGANIZER;CN="Erica Kaufman":MAILTO:erica@lilayoga.com
END:VEVENT
BEGIN:VEVENT
DTSTART;VALUE=DATE:20260309
DTEND;VALUE=DATE:20260316
DTSTAMP:20260421T184138
CREATED:20260204T103507Z
LAST-MODIFIED:20260216T123530Z
UID:10000215-1773014400-1773619199@lilayoga.com
SUMMARY:International Yoga Festival 2026 with Erica Kaufman
DESCRIPTION:[vc_row full_width=”stretch_row_content_no_spaces” class=”home”][vc_column css_animation=”fadeIn”][vc_row_inner padding_top=”0″][vc_column_inner][vc_single_image image=”38158″ img_size=”full” onclick=”custom_link” img_link_target=”_blank” css=”” link=”https://internationalyogafestival.org/register/”][vc_column_text class=”event1″]Join Erica Rachel Kaufman March 9-15 In Rishikesh\, India For A Flow On Ma Ganges In А Hatha Based Practice Of Philosophy In Motion \n“I am honored & looking forward to once again teaching at the International Yoga Festival 2026!!!” ~ Erica Kaufman \nJoin Yogini Erica Kaufman on the world famous annual International Yoga Festival in 2026 — uniting yogis of every culture\, color and creed together in a one-world yogic family\, expanding global consciousness\, and bringing healing to the planet\, one person at a time! \nCome home to Rishikesh\, the birthplace of yoga and Yoga Capital of the World\, the home of the ancient yogis\, sages and seers. Each year the International Yoga Festival grows and expands\, embracing more and more people from more and more countries around the world. In 2019\, we had over 2000 participants from over 80 countries! \nConnect with like-minded\, conscious yogis and paradigm-shifters from every part of the world. Whether you are already undergoing a personal transformation or are in search of transformation\, whether you are already an active co-creator of your own divine life or you would like to become one – the Festival is for all! Befriend a community that becomes family for life.[/vc_column_text][vc_column_text class=”fest1desc”] \nEXCITING!!\n\nPlease use Promo Code Erica2026 to receive 10% OFF.\nMARCH 9-15\, 2026 – INTERNATIONAL YOGA FESTIVAL 2026 at Rishikesh\, INDIA\n\n[/vc_column_text][vc_btn title=”Register” color=”orange” size=”lg” align=”center” css_animation=”fadeIn” css=”” button_block=”true” link=”url:https%3A%2F%2Finternationalyogafestival.org%2Fregister%2F|title:Register|target:_blank|rel:nofollow”][vc_media_grid style=”load-more” items_per_page=”3″ css=”” btn_style=”modern” btn_color=”default” btn_size=”xs” grid_id=”vc_gid:1771245258106-b178d816-8423-9″ include=”38156\,36532\,36533\,36534\,36535\,36536\,36537\,36538\,36539\,36540\,36541\,36542\,36543″][/vc_column_inner][/vc_row_inner][/vc_column][/vc_row]
URL:https://lilayoga.com/event/international-yoga-festival-2026-with-erica-kaufman/
LOCATION:International Yoga Festival\, India\, Rishikesh\, India
CATEGORIES:Retreat,Yoga Festival
ATTACH;FMTTYPE=image/jpeg:https://lilayoga.com/wp-content/uploads/2026/02/iyf2026_c.jpg
ORGANIZER;CN="Erica Kaufman":MAILTO:erica@lilayoga.com
END:VEVENT
END:VCALENDAR