BEGIN:VCALENDAR
VERSION:2.0
PRODID:-//LILA YOGA® - ECPv6.15.20//NONSGML v1.0//EN
CALSCALE:GREGORIAN
METHOD:PUBLISH
X-ORIGINAL-URL:https://lilayoga.com
X-WR-CALDESC:Events for LILA YOGA®
REFRESH-INTERVAL;VALUE=DURATION:PT1H
X-Robots-Tag:noindex
X-PUBLISHED-TTL:PT1H
BEGIN:VTIMEZONE
TZID:America/New_York
BEGIN:DAYLIGHT
TZOFFSETFROM:-0500
TZOFFSETTO:-0400
TZNAME:EDT
DTSTART:20230312T070000
END:DAYLIGHT
BEGIN:STANDARD
TZOFFSETFROM:-0400
TZOFFSETTO:-0500
TZNAME:EST
DTSTART:20231105T060000
END:STANDARD
BEGIN:DAYLIGHT
TZOFFSETFROM:-0500
TZOFFSETTO:-0400
TZNAME:EDT
DTSTART:20240310T070000
END:DAYLIGHT
BEGIN:STANDARD
TZOFFSETFROM:-0400
TZOFFSETTO:-0500
TZNAME:EST
DTSTART:20241103T060000
END:STANDARD
BEGIN:DAYLIGHT
TZOFFSETFROM:-0500
TZOFFSETTO:-0400
TZNAME:EDT
DTSTART:20250309T070000
END:DAYLIGHT
BEGIN:STANDARD
TZOFFSETFROM:-0400
TZOFFSETTO:-0500
TZNAME:EST
DTSTART:20251102T060000
END:STANDARD
END:VTIMEZONE
BEGIN:VEVENT
DTSTART;VALUE=DATE:20240308
DTEND;VALUE=DATE:20240315
DTSTAMP:20260420T121230
CREATED:20231226T124702Z
LAST-MODIFIED:20231226T132600Z
UID:10000150-1709856000-1710460799@lilayoga.com
SUMMARY:International Yoga Festival 2024 with Erica Kaufman
DESCRIPTION:[vc_row full_width=”stretch_row_content_no_spaces” class=”home”][vc_column css_animation=”fadeIn”][vc_row_inner padding_top=”0″][vc_column_inner][vc_single_image image=”37881″ img_size=”full”][vc_column_text class=”event1″]“I am honored & looking forward to once again teaching at the International Yoga Festival 2024!!!” ~ Erica Kaufman \nJoin Yogini Erica Kaufman on the banks of the Gangers River on the foothills of the Himalayan Mountains for an experience of a lifetime! \nRishikesh is the spiritual birthplace of yoga & the home of the world-renowned International Yoga Festival at Parmarth Niketan Ashram!\n[/vc_column_text][vc_column_text class=”fest1desc”] \nEXCITING!!\n\nPlease use Promo Code Erica2024 to receive 15% off in Dec.\nMARCH 8-14\, 2024 – INTERNATIONAL YOGA FESTIVAL 2024 at Parmarth Niketan\, Rishikesh\, INDIA\n\n[/vc_column_text][vc_btn title=”Register” color=”orange” size=”lg” align=”center” css_animation=”fadeIn” button_block=”true” link=”url:https%3A%2F%2Finternationalyogafestival.org%2Fregister%2F|title:Register|target:_blank|rel:nofollow”][vc_media_grid style=”load-more” items_per_page=”3″ btn_style=”modern” btn_color=”default” btn_size=”xs” grid_id=”vc_gid:1703596111324-45055db8-9d79-5″ include=”37878\,36532\,36533\,36534\,36535\,36536\,36537\,36538\,36539\,36540\,36541\,36542\,36543″][/vc_column_inner][/vc_row_inner][/vc_column][/vc_row]
URL:https://lilayoga.com/event/international-yoga-festival-2024-with-erica-kaufman/
CATEGORIES:Retreat,Yoga Festival
ATTACH;FMTTYPE=image/jpeg:https://lilayoga.com/wp-content/uploads/2023/12/iyf24.jpg
ORGANIZER;CN="Erica Kaufman":MAILTO:erica@lilayoga.com
END:VEVENT
END:VCALENDAR