BEGIN:VCALENDAR
VERSION:2.0
PRODID:-//LILA YOGA® - ECPv6.15.20//NONSGML v1.0//EN
CALSCALE:GREGORIAN
METHOD:PUBLISH
X-ORIGINAL-URL:https://lilayoga.com
X-WR-CALDESC:Events for LILA YOGA®
REFRESH-INTERVAL;VALUE=DURATION:PT1H
X-Robots-Tag:noindex
X-PUBLISHED-TTL:PT1H
BEGIN:VTIMEZONE
TZID:America/New_York
BEGIN:DAYLIGHT
TZOFFSETFROM:-0500
TZOFFSETTO:-0400
TZNAME:EDT
DTSTART:20220313T070000
END:DAYLIGHT
BEGIN:STANDARD
TZOFFSETFROM:-0400
TZOFFSETTO:-0500
TZNAME:EST
DTSTART:20221106T060000
END:STANDARD
BEGIN:DAYLIGHT
TZOFFSETFROM:-0500
TZOFFSETTO:-0400
TZNAME:EDT
DTSTART:20230312T070000
END:DAYLIGHT
BEGIN:STANDARD
TZOFFSETFROM:-0400
TZOFFSETTO:-0500
TZNAME:EST
DTSTART:20231105T060000
END:STANDARD
BEGIN:DAYLIGHT
TZOFFSETFROM:-0500
TZOFFSETTO:-0400
TZNAME:EDT
DTSTART:20240310T070000
END:DAYLIGHT
BEGIN:STANDARD
TZOFFSETFROM:-0400
TZOFFSETTO:-0500
TZNAME:EST
DTSTART:20241103T060000
END:STANDARD
END:VTIMEZONE
BEGIN:VEVENT
DTSTART;VALUE=DATE:20230616
DTEND;VALUE=DATE:20230620
DTSTAMP:20260421T024946
CREATED:20230611T204953Z
LAST-MODIFIED:20230611T205601Z
UID:10000147-1686873600-1687219199@lilayoga.com
SUMMARY:Lila Yoga® Mindfulness Retreat—The Art & Science of Feeling Fresh!
DESCRIPTION:[vc_row full_width=”stretch_row_content_no_spaces” padding_top=”0″ padding_bottom=”0″][vc_column css_animation=”fadeIn”][vc_row_inner padding_top=”0″][vc_column_inner][vc_single_image image=”37830″ img_size=”full”][vc_column_text class=”event1″]Living with contentment is a key component in our wellbeing. The ability to release\, relax\, and sometimes embrace heaviness without guilt are all part of our wellness. Joy can unfold easily from contentment and give rise to the quiet power of yoga—the spring-well of freshness. \nIt’s a marvelous refreshing experience to feel invigorated by peaceful ease. In this class we will take time to consider these states of being and how to nourish them in your life. You will practice asanas\, pranayama\, and meditations to creates space for freshness!—room for expensive positive qualities to naturally unfold. You will learn life skills to activate fresh qualities in your everyday well being. \nAll Levels of Practitioners Welcome (modify to your own level).[/vc_column_text][vc_column_text class=”event1desc”]TUITION: Tuition $300 + 3 nights \nCHECK IN INSTRUCTIONS: Registration takes place from 2– 5 pm on your program start date. All participants and volunteer staff must check in at our Guest Registration house. Please arrive before 5 pm to check-in and settle into your accommodations. Your program begins with dinner\, followed by an orientation. The Guest Registration house closes at 5 pm after which no one is available to provide information or orient you to your accommodations. All programs usually end at 12:30 pm on the program’s departure date\, followed by lunch. Further specifics regarding your program’s schedule will be available upon arrival. If applicable\, you will receive an email from the program coordinator in the week prior to your program with any additional information you may need.[/vc_column_text][vc_btn title=”Register Now” color=”orange” size=”lg” link=”url:https%3A%2F%2Fwww.dralamountain.org%2Fprogram%2Fly623-lila-yoga-mindfulness-retreat-the-art-science-of-being-fresh%2F%3Fform%3D1%26ts%3D1686515728680|target:_blank”][/vc_column_inner][/vc_row_inner][/vc_column][/vc_row]
URL:https://lilayoga.com/event/lila-yoga-mindfulness-retreat-the-art-science-of-feeling-fresh/
CATEGORIES:Retreat
ATTACH;FMTTYPE=image/jpeg:https://lilayoga.com/wp-content/uploads/2023/06/Lila-Yoga-Retreat-Header-2.jpg
ORGANIZER;CN="Erica Kaufman":MAILTO:erica@lilayoga.com
END:VEVENT
END:VCALENDAR