BEGIN:VCALENDAR
VERSION:2.0
PRODID:-//LILA YOGA® - ECPv6.15.20//NONSGML v1.0//EN
CALSCALE:GREGORIAN
METHOD:PUBLISH
X-ORIGINAL-URL:https://lilayoga.com
X-WR-CALDESC:Events for LILA YOGA®
REFRESH-INTERVAL;VALUE=DURATION:PT1H
X-Robots-Tag:noindex
X-PUBLISHED-TTL:PT1H
BEGIN:VTIMEZONE
TZID:America/New_York
BEGIN:DAYLIGHT
TZOFFSETFROM:-0500
TZOFFSETTO:-0400
TZNAME:EDT
DTSTART:20210314T070000
END:DAYLIGHT
BEGIN:STANDARD
TZOFFSETFROM:-0400
TZOFFSETTO:-0500
TZNAME:EST
DTSTART:20211107T060000
END:STANDARD
BEGIN:DAYLIGHT
TZOFFSETFROM:-0500
TZOFFSETTO:-0400
TZNAME:EDT
DTSTART:20220313T070000
END:DAYLIGHT
BEGIN:STANDARD
TZOFFSETFROM:-0400
TZOFFSETTO:-0500
TZNAME:EST
DTSTART:20221106T060000
END:STANDARD
BEGIN:DAYLIGHT
TZOFFSETFROM:-0500
TZOFFSETTO:-0400
TZNAME:EDT
DTSTART:20230312T070000
END:DAYLIGHT
BEGIN:STANDARD
TZOFFSETFROM:-0400
TZOFFSETTO:-0500
TZNAME:EST
DTSTART:20231105T060000
END:STANDARD
BEGIN:DAYLIGHT
TZOFFSETFROM:-0500
TZOFFSETTO:-0400
TZNAME:EDT
DTSTART:20240310T070000
END:DAYLIGHT
BEGIN:STANDARD
TZOFFSETFROM:-0400
TZOFFSETTO:-0500
TZNAME:EST
DTSTART:20241103T060000
END:STANDARD
END:VTIMEZONE
BEGIN:VEVENT
DTSTART;VALUE=DATE:20221227
DTEND;VALUE=DATE:20230111
DTSTAMP:20260421T120130
CREATED:20220608T095047Z
LAST-MODIFIED:20220910T103156Z
UID:10000143-1672099200-1673395199@lilayoga.com
SUMMARY:The Lila Yoga Retreat to Chennai\, India
DESCRIPTION:[vc_row full_width=”stretch_row_content_no_spaces” padding_top=”0″ padding_bottom=”0″][vc_column css_animation=”fadeIn”][vc_row_inner padding_top=”0″][vc_column_inner][vc_column_text class=”event1″] \nThe Lila Yoga Retreat to Chennai\, India is held annually\nDecember 27\, 2022 – January 10\, 2023\nFor the price of approximately $1\,850 the retreat provides\n\nDaily instruction from highly experienced yogacharyas at the Krishnamacharya Yoga Mandiram\nHotel room & board in Chennai\, India organized by Lila Yoga\nDaily breakfast at the Krishnamacharya Yoga Mandiram\nTransportation to and from the airport\nTransportation to and from the hotel to the beach\, KYM\, and any other Chennai city trips\nHotel room & board in Tiruvannamalai\, India\nTransportation to and from Tiruvannamalai\, India\n\nFlights are coordinated by attendees\, but covered by the individual. India requires a tourist visa\, citizens from most countries can complete a 72-hour e-visa. \nFor more information\, please contact erica@lilayoga.com or reach out to Lila teachers during class times at Lila Yoga Studios in State College\, PA[/vc_column_text][vc_btn title=”More Info” color=”orange” link=”url:https%3A%2F%2Flilayoga.com%2Fretreats%2F”][/vc_column_inner][/vc_row_inner][/vc_column][/vc_row]
URL:https://lilayoga.com/event/the-lila-yoga-retreat-to-chennai-india/
LOCATION:Chennai\, India\, Lila Yoga Retreat\, Chennai\, India
CATEGORIES:Retreat
ORGANIZER;CN="Erica Kaufman":MAILTO:erica@lilayoga.com
END:VEVENT
END:VCALENDAR